BEGIN:VCALENDAR
METHOD:PUBLISH
VERSION:2.0
CALSCALE:GREGORIAN
PRODID:-//NONSGML WPForms//NONSGML Sugar Calendar Feeds v3.11.0//EN
X-WR-CALNAME:Track Rental
X-WR-CALDESC:Keystone Raceway Park
X-WR-TIMEZONE:America/New_York
BEGIN:VTIMEZONE
TZID:America/New_York
BEGIN:DAYLIGHT
TZOFFSETFROM:-0500
TZOFFSETTO:-0400
DTSTART:20240310T070000
TZNAME:EDT
END:DAYLIGHT
END:VTIMEZONE
BEGIN:VTIMEZONE
TZID:America/New_York
BEGIN:DAYLIGHT
TZOFFSETFROM:-0500
TZOFFSETTO:-0400
DTSTART:20240310T070000
TZNAME:EDT
END:DAYLIGHT
END:VTIMEZONE
BEGIN:VEVENT
SUMMARY:Track Rental
DESCRIPTION:Track Rental\nGates open at 9am\nOn track 10am - 3pm\n$250 p
 er car/driver\n$17 per crew member/spectator
URL;VALUE=URI:https://keystoneracewaypark.com/events/track-rental-2/
UID:urn:uuid:d98fb719-beaf-45b1-8f2e-2421ca120f17
STATUS:CONFIRMED
ORGANIZER:
DTSTAMP:20260419T130329Z
DTSTART;TZID=America/New_York:20240810T100000
DTEND;TZID=America/New_York:20240810T150000
END:VEVENT
END:VCALENDAR