BEGIN:VCALENDAR
METHOD:PUBLISH
VERSION:2.0
CALSCALE:GREGORIAN
PRODID:-//NONSGML WPForms//NONSGML Sugar Calendar Feeds v3.11.0//EN
X-WR-CALNAME:5K Race
X-WR-CALDESC:Keystone Raceway Park
X-WR-TIMEZONE:America/New_York
BEGIN:VTIMEZONE
TZID:America/New_York
BEGIN:DAYLIGHT
TZOFFSETFROM:-0500
TZOFFSETTO:-0400
DTSTART:20260308T070000
TZNAME:EDT
END:DAYLIGHT
END:VTIMEZONE
BEGIN:VTIMEZONE
TZID:America/New_York
BEGIN:DAYLIGHT
TZOFFSETFROM:-0500
TZOFFSETTO:-0400
DTSTART:20260308T070000
TZNAME:EDT
END:DAYLIGHT
END:VTIMEZONE
BEGIN:VEVENT
SUMMARY:5K Race
DESCRIPTION:5K Race ... full details to come 
URL;VALUE=URI:https://keystoneracewaypark.com/events/5k-race/
UID:urn:uuid:0c273d7c-0985-468d-9f9f-4ce1e9a48d57
STATUS:CONFIRMED
ORGANIZER:
DTSTAMP:20260419T134747Z
DTSTART;VALUE=DATE:20260530
DTEND;VALUE=DATE:20260531
END:VEVENT
END:VCALENDAR